BEGIN:VCALENDAR
VERSION:2.0
PRODID:-//Goxel.de - ECPv6.15.13.1//NONSGML v1.0//EN
CALSCALE:GREGORIAN
METHOD:PUBLISH
X-ORIGINAL-URL:https://goxel.de
X-WR-CALDESC:Veranstaltungen für Goxel.de
REFRESH-INTERVAL;VALUE=DURATION:PT1H
X-Robots-Tag:noindex
X-PUBLISHED-TTL:PT1H
BEGIN:VTIMEZONE
TZID:Europe/Berlin
BEGIN:DAYLIGHT
TZOFFSETFROM:+0100
TZOFFSETTO:+0200
TZNAME:CEST
DTSTART:20230326T010000
END:DAYLIGHT
BEGIN:STANDARD
TZOFFSETFROM:+0200
TZOFFSETTO:+0100
TZNAME:CET
DTSTART:20231029T010000
END:STANDARD
BEGIN:DAYLIGHT
TZOFFSETFROM:+0100
TZOFFSETTO:+0200
TZNAME:CEST
DTSTART:20240331T010000
END:DAYLIGHT
BEGIN:STANDARD
TZOFFSETFROM:+0200
TZOFFSETTO:+0100
TZNAME:CET
DTSTART:20241027T010000
END:STANDARD
BEGIN:DAYLIGHT
TZOFFSETFROM:+0100
TZOFFSETTO:+0200
TZNAME:CEST
DTSTART:20250330T010000
END:DAYLIGHT
BEGIN:STANDARD
TZOFFSETFROM:+0200
TZOFFSETTO:+0100
TZNAME:CET
DTSTART:20251026T010000
END:STANDARD
END:VTIMEZONE
BEGIN:VEVENT
DTSTART;VALUE=DATE:20240907
DTEND;VALUE=DATE:20240908
DTSTAMP:20260424T162738
CREATED:20240115T121954Z
LAST-MODIFIED:20240115T121954Z
UID:10000100-1725667200-1725753599@goxel.de
SUMMARY:Coesfelder Stadtschützenfest
DESCRIPTION:Im September wird es in Coesfeld wieder ein Stadtschützenfest aller Coesfelder Schützenvereine geben. Einzelheiten für die Goxeler Schützen werden noch rechtzeitig mitgeteilt.
URL:https://goxel.de/event/coesfelder-stadtschuetzenfest/
CATEGORIES:Schützenverein
ATTACH;FMTTYPE=image/jpeg:https://goxel.de/wp-content/uploads/2023/12/sv-wappen-klein.jpg
END:VEVENT
BEGIN:VEVENT
DTSTART;VALUE=DATE:20240912
DTEND;VALUE=DATE:20240913
DTSTAMP:20260424T162738
CREATED:20231207T174919Z
LAST-MODIFIED:20231207T174919Z
UID:10000083-1726099200-1726185599@goxel.de
SUMMARY:Seniorenfahrt
DESCRIPTION:Seniorenfahrt der Nachbarschaft Wittenfeld \nWeitere Details folgen…
URL:https://goxel.de/event/seniorenfahrt/
CATEGORIES:Wittenfeld
ATTACH;FMTTYPE=image/png:https://goxel.de/wp-content/uploads/2023/03/logo_wittenfeld-neu_hell.png
END:VEVENT
BEGIN:VEVENT
DTSTART;TZID=Europe/Berlin:20240926T140000
DTEND;TZID=Europe/Berlin:20240926T180000
DTSTAMP:20260424T162738
CREATED:20231207T173344Z
LAST-MODIFIED:20231207T173344Z
UID:10000067-1727359200-1727373600@goxel.de
SUMMARY:"GoWI"-Radler
DESCRIPTION:
URL:https://goxel.de/event/gowi-radler-7/
CATEGORIES:Wittenfeld
ATTACH;FMTTYPE=image/png:https://goxel.de/wp-content/uploads/2023/03/logo_wittenfeld-neu_hell.png
END:VEVENT
BEGIN:VEVENT
DTSTART;TZID=Europe/Berlin:20240927T190000
DTEND;TZID=Europe/Berlin:20240927T220000
DTSTAMP:20260424T162738
CREATED:20231207T173708Z
LAST-MODIFIED:20231207T173708Z
UID:10000073-1727463600-1727474400@goxel.de
SUMMARY:Jugendtreff
DESCRIPTION:Jugendtreff im Pfarrheim
URL:https://goxel.de/event/jugendtreff-7/
LOCATION:Pfarrzentrum Herz-Jesu-Goxel\, Goxel 13\, Coesfeld\, NRW\, 48653\, Deutschland
CATEGORIES:Wittenfeld
ATTACH;FMTTYPE=image/png:https://goxel.de/wp-content/uploads/2023/03/logo_wittenfeld-neu_hell.png
GEO:51.93354;7.11684
X-APPLE-STRUCTURED-LOCATION;VALUE=URI;X-ADDRESS=Pfarrzentrum Herz-Jesu-Goxel Goxel 13 Coesfeld NRW 48653 Deutschland;X-APPLE-RADIUS=500;X-TITLE=Goxel 13:geo:7.11684,51.93354
END:VEVENT
BEGIN:VEVENT
DTSTART;TZID=Europe/Berlin:20240929T100000
DTEND;TZID=Europe/Berlin:20240929T123000
DTSTAMP:20260424T162738
CREATED:20240902T194837Z
LAST-MODIFIED:20240902T194837Z
UID:10000495-1727604000-1727613000@goxel.de
SUMMARY:Kindertheater Honk und Hanna - Kuchenverkauf für alle
DESCRIPTION:
URL:https://goxel.de/event/kindertheater-honk-und-hanna-kuchenverkauf-fuer-alle/
LOCATION:Pfarrzentrum Herz-Jesu-Goxel\, Goxel 13\, Coesfeld\, NRW\, 48653\, Deutschland
CATEGORIES:Lokales
ATTACH;FMTTYPE=image/jpeg:https://goxel.de/wp-content/uploads/2024/09/Kindertheater-Honk-und-Hanna-September-2024.jpeg
GEO:51.93354;7.11684
X-APPLE-STRUCTURED-LOCATION;VALUE=URI;X-ADDRESS=Pfarrzentrum Herz-Jesu-Goxel Goxel 13 Coesfeld NRW 48653 Deutschland;X-APPLE-RADIUS=500;X-TITLE=Goxel 13:geo:7.11684,51.93354
END:VEVENT
END:VCALENDAR