BEGIN:VCALENDAR
VERSION:2.0
PRODID:-//Goxel.de - ECPv6.15.13.1//NONSGML v1.0//EN
CALSCALE:GREGORIAN
METHOD:PUBLISH
X-WR-CALNAME:Goxel.de
X-ORIGINAL-URL:https://goxel.de
X-WR-CALDESC:Veranstaltungen für Goxel.de
REFRESH-INTERVAL;VALUE=DURATION:PT1H
X-Robots-Tag:noindex
X-PUBLISHED-TTL:PT1H
BEGIN:VTIMEZONE
TZID:Europe/Berlin
BEGIN:DAYLIGHT
TZOFFSETFROM:+0100
TZOFFSETTO:+0200
TZNAME:CEST
DTSTART:20230326T010000
END:DAYLIGHT
BEGIN:STANDARD
TZOFFSETFROM:+0200
TZOFFSETTO:+0100
TZNAME:CET
DTSTART:20231029T010000
END:STANDARD
BEGIN:DAYLIGHT
TZOFFSETFROM:+0100
TZOFFSETTO:+0200
TZNAME:CEST
DTSTART:20240331T010000
END:DAYLIGHT
BEGIN:STANDARD
TZOFFSETFROM:+0200
TZOFFSETTO:+0100
TZNAME:CET
DTSTART:20241027T010000
END:STANDARD
BEGIN:DAYLIGHT
TZOFFSETFROM:+0100
TZOFFSETTO:+0200
TZNAME:CEST
DTSTART:20250330T010000
END:DAYLIGHT
BEGIN:STANDARD
TZOFFSETFROM:+0200
TZOFFSETTO:+0100
TZNAME:CET
DTSTART:20251026T010000
END:STANDARD
END:VTIMEZONE
BEGIN:VEVENT
DTSTART;TZID=Europe/Berlin:20240202T143000
DTEND;TZID=Europe/Berlin:20240202T170000
DTSTAMP:20260425T044029
CREATED:20231207T171059Z
LAST-MODIFIED:20231207T171059Z
UID:10000053-1706884200-1706893200@goxel.de
SUMMARY:Senioren-Karneval
DESCRIPTION:Senioren-Karneval der Nachbarschaft Wittenfeld
URL:https://goxel.de/event/senioren-karneval/
LOCATION:Pfarrzentrum Herz-Jesu-Goxel\, Goxel 13\, Coesfeld\, NRW\, 48653\, Deutschland
CATEGORIES:Wittenfeld
ATTACH;FMTTYPE=image/jpeg:https://goxel.de/wp-content/uploads/2023/12/Logo-1_Karneval.jpg
GEO:51.93354;7.11684
X-APPLE-STRUCTURED-LOCATION;VALUE=URI;X-ADDRESS=Pfarrzentrum Herz-Jesu-Goxel Goxel 13 Coesfeld NRW 48653 Deutschland;X-APPLE-RADIUS=500;X-TITLE=Goxel 13:geo:7.11684,51.93354
END:VEVENT
BEGIN:VEVENT
DTSTART;TZID=Europe/Berlin:20240208T150000
DTEND;TZID=Europe/Berlin:20240208T233000
DTSTAMP:20260425T044029
CREATED:20240205T184520Z
LAST-MODIFIED:20240205T184520Z
UID:10000371-1707404400-1707435000@goxel.de
SUMMARY:Altweiberkarneval
DESCRIPTION:15:00 Uhr Altweiber-Kaffee im Pfarrzentrum \n17:00 Uhr Treffen am Franz-Rohls Platz und anschließend Umzug durch das Wohngebiet \nAbschluss im Pfarrzentrum
URL:https://goxel.de/event/altweiberkarneval/
END:VEVENT
BEGIN:VEVENT
DTSTART;TZID=Europe/Berlin:20240210T100000
DTEND;TZID=Europe/Berlin:20240210T120000
DTSTAMP:20260425T044029
CREATED:20240205T184751Z
LAST-MODIFIED:20240205T184751Z
UID:10000372-1707559200-1707566400@goxel.de
SUMMARY:Kinderkarneval inkl. Proklamation des Kinderkarnevalsthrons
DESCRIPTION:
URL:https://goxel.de/event/kinderkarneval-inkl-proklamation-des-kinderkarnevalsthrons/
LOCATION:Heidekrug\, Goxel 37a\, Coesfeld\, NRW\, 48653\, Deutschland
END:VEVENT
BEGIN:VEVENT
DTSTART;TZID=Europe/Berlin:20240210T193000
DTEND;TZID=Europe/Berlin:20240210T235900
DTSTAMP:20260425T044029
CREATED:20231207T171357Z
LAST-MODIFIED:20240205T184948Z
UID:10000054-1707593400-1707609540@goxel.de
SUMMARY:Karnevalsparty
DESCRIPTION:
URL:https://goxel.de/event/karneval/
LOCATION:Heidekrug\, Goxel 37a\, Coesfeld\, NRW\, 48653\, Deutschland
CATEGORIES:Wittenfeld
ATTACH;FMTTYPE=image/jpeg:https://goxel.de/wp-content/uploads/2023/12/Logo-1_Karneval.jpg
END:VEVENT
BEGIN:VEVENT
DTSTART;TZID=Europe/Berlin:20240211T141100
DTEND;TZID=Europe/Berlin:20240211T235900
DTSTAMP:20260425T044029
CREATED:20231207T172117Z
LAST-MODIFIED:20240205T185459Z
UID:10000055-1707660660-1707695940@goxel.de
SUMMARY:Karnevalsumzug mit dem Kinderkarnevalsthron
DESCRIPTION:Wegeskarte des Umzugs: \nKarte Goxel
URL:https://goxel.de/event/karneval-in-goxel-city/
CATEGORIES:Lokales,Wittenfeld
ATTACH;FMTTYPE=image/jpeg:https://goxel.de/wp-content/uploads/2023/12/Logo-1_Karneval.jpg
END:VEVENT
BEGIN:VEVENT
DTSTART;TZID=Europe/Berlin:20240223T190000
DTEND;TZID=Europe/Berlin:20240223T210000
DTSTAMP:20260425T044029
CREATED:20231207T172318Z
LAST-MODIFIED:20240126T071411Z
UID:10000056-1708714800-1708722000@goxel.de
SUMMARY:Jugendtreff
DESCRIPTION:Jugendtreff im Pfarrheim
URL:https://goxel.de/event/jugendtreff-2/
LOCATION:Pfarrzentrum Herz-Jesu-Goxel\, Goxel 13\, Coesfeld\, NRW\, 48653\, Deutschland
CATEGORIES:Wittenfeld
ATTACH;FMTTYPE=image/png:https://goxel.de/wp-content/uploads/2023/03/logo_wittenfeld-neu_hell.png
GEO:51.93354;7.11684
X-APPLE-STRUCTURED-LOCATION;VALUE=URI;X-ADDRESS=Pfarrzentrum Herz-Jesu-Goxel Goxel 13 Coesfeld NRW 48653 Deutschland;X-APPLE-RADIUS=500;X-TITLE=Goxel 13:geo:7.11684,51.93354
END:VEVENT
BEGIN:VEVENT
DTSTART;TZID=Europe/Berlin:20240225T103000
DTEND;TZID=Europe/Berlin:20240225T130000
DTSTAMP:20260425T044029
CREATED:20240116T182009Z
LAST-MODIFIED:20240122T200557Z
UID:10000097-1708857000-1708866000@goxel.de
SUMMARY:Kindertheater Honk und Hanna mit anschließendem Kuchenverkauf
DESCRIPTION:Theatervorstellung von Honk und Hanna mit dem Stück „Nicht perfekt\, aber wundervoll. Das total verrückte Karton-Haus von Honk und Hanna“. \nVon 11:15-12:00 Uhr wird es einen Kuchenverkauf geben. Der Erlös kommt dem Kindergarten Herz-Jesu zu Gute.
URL:https://goxel.de/event/kindertheater-honk-und-hanna-mit-anschliessendem-kuchenverkauf/
LOCATION:Pfarrzentrum Herz-Jesu-Goxel\, Goxel 13\, Coesfeld\, NRW\, 48653\, Deutschland
CATEGORIES:Lokales
GEO:51.93354;7.11684
X-APPLE-STRUCTURED-LOCATION;VALUE=URI;X-ADDRESS=Pfarrzentrum Herz-Jesu-Goxel Goxel 13 Coesfeld NRW 48653 Deutschland;X-APPLE-RADIUS=500;X-TITLE=Goxel 13:geo:7.11684,51.93354
END:VEVENT
BEGIN:VEVENT
DTSTART;TZID=Europe/Berlin:20240226T193000
DTEND;TZID=Europe/Berlin:20240226T203000
DTSTAMP:20260425T044029
CREATED:20240204T105618Z
LAST-MODIFIED:20240204T105924Z
UID:10000367-1708975800-1708979400@goxel.de
SUMMARY:Fastenmeditation
DESCRIPTION:
URL:https://goxel.de/event/fastenmeditation/
LOCATION:Herz-Jesu-Kirche\, Goxel 13\, Coesfeld\, NRW\, 48653
CATEGORIES:Lokales
ATTACH;FMTTYPE=image/png:https://goxel.de/wp-content/uploads/2024/02/logo.png
GEO:51.93354;7.11684
X-APPLE-STRUCTURED-LOCATION;VALUE=URI;X-ADDRESS=Herz-Jesu-Kirche Goxel 13 Coesfeld NRW 48653;X-APPLE-RADIUS=500;X-TITLE=Goxel 13:geo:7.11684,51.93354
END:VEVENT
END:VCALENDAR