BEGIN:VCALENDAR
VERSION:2.0
PRODID:-//Goxel.de - ECPv6.15.13.1//NONSGML v1.0//EN
CALSCALE:GREGORIAN
METHOD:PUBLISH
X-ORIGINAL-URL:https://goxel.de
X-WR-CALDESC:Veranstaltungen für Goxel.de
REFRESH-INTERVAL;VALUE=DURATION:PT1H
X-Robots-Tag:noindex
X-PUBLISHED-TTL:PT1H
BEGIN:VTIMEZONE
TZID:Europe/Berlin
BEGIN:DAYLIGHT
TZOFFSETFROM:+0100
TZOFFSETTO:+0200
TZNAME:CEST
DTSTART:20230326T010000
END:DAYLIGHT
BEGIN:STANDARD
TZOFFSETFROM:+0200
TZOFFSETTO:+0100
TZNAME:CET
DTSTART:20231029T010000
END:STANDARD
BEGIN:DAYLIGHT
TZOFFSETFROM:+0100
TZOFFSETTO:+0200
TZNAME:CEST
DTSTART:20240331T010000
END:DAYLIGHT
BEGIN:STANDARD
TZOFFSETFROM:+0200
TZOFFSETTO:+0100
TZNAME:CET
DTSTART:20241027T010000
END:STANDARD
BEGIN:DAYLIGHT
TZOFFSETFROM:+0100
TZOFFSETTO:+0200
TZNAME:CEST
DTSTART:20250330T010000
END:DAYLIGHT
BEGIN:STANDARD
TZOFFSETFROM:+0200
TZOFFSETTO:+0100
TZNAME:CET
DTSTART:20251026T010000
END:STANDARD
END:VTIMEZONE
BEGIN:VEVENT
DTSTART;TZID=Europe/Berlin:20240111T143000
DTEND;TZID=Europe/Berlin:20240111T180000
DTSTAMP:20260425T061344
CREATED:20231204T174550Z
LAST-MODIFIED:20231204T174550Z
UID:10000050-1704983400-1704996000@goxel.de
SUMMARY:Seniorennachmittag
DESCRIPTION:Seniorennachmittag der Nachbarschaft Wittenfeld
URL:https://goxel.de/event/seniorennachmittag/
CATEGORIES:Wittenfeld
ATTACH;FMTTYPE=image/png:https://goxel.de/wp-content/uploads/2023/03/logo_wittenfeld-neu_hell.png
END:VEVENT
BEGIN:VEVENT
DTSTART;TZID=Europe/Berlin:20240112T200000
DTEND;TZID=Europe/Berlin:20240112T223000
DTSTAMP:20260425T061344
CREATED:20231114T124508Z
LAST-MODIFIED:20231223T131840Z
UID:10000048-1705089600-1705098600@goxel.de
SUMMARY:Mitgliederversammlung Schützenverein
DESCRIPTION:Die alljährliche Mitgliederversammlung des Goxeler Schützenvereins findet traditionell gleich Anfang eines neuen Jahres statt. Die Einladung mit der Tagesordnung wird um die Weihnachtszeit veröffentlich und kann jetzt hier eingesehen werden. \nDie Einladung kann jetzt hier heruntergeladen bzw. eingesehen werden. \nDie Anlage zum Punkt „Satzungsänderung“ kann hier heruntergeladen bzw. eingesehen werden. \n 
URL:https://goxel.de/event/mitgliederversammlung/
LOCATION:Heidekrug\, Goxel 37a\, Coesfeld\, NRW\, 48653\, Deutschland
CATEGORIES:Schützenverein
ATTACH;FMTTYPE=image/jpeg:https://goxel.de/wp-content/uploads/2023/12/sv-wappen-klein.jpg
END:VEVENT
BEGIN:VEVENT
DTSTART;TZID=Europe/Berlin:20240113T140000
DTEND;TZID=Europe/Berlin:20240113T153000
DTSTAMP:20260425T061344
CREATED:20240102T161220Z
LAST-MODIFIED:20240106T112918Z
UID:10000096-1705154400-1705159800@goxel.de
SUMMARY:Kartenvorverkauf für die Karnevalsparty am 10.02.24
DESCRIPTION:
URL:https://goxel.de/event/kartenvorverkauf-fuer-die-karnevalsparty-am-10-02-24/
LOCATION:Pfarrzentrum Herz-Jesu-Goxel\, Goxel 13\, Coesfeld\, NRW\, 48653\, Deutschland
CATEGORIES:Wittenfeld
ATTACH;FMTTYPE=image/jpeg:https://goxel.de/wp-content/uploads/2023/12/Logo-1_Karneval.jpg
GEO:51.93354;7.11684
X-APPLE-STRUCTURED-LOCATION;VALUE=URI;X-ADDRESS=Pfarrzentrum Herz-Jesu-Goxel Goxel 13 Coesfeld NRW 48653 Deutschland;X-APPLE-RADIUS=500;X-TITLE=Goxel 13:geo:7.11684,51.93354
END:VEVENT
BEGIN:VEVENT
DTSTART;TZID=Europe/Berlin:20240119T200000
DTEND;TZID=Europe/Berlin:20240119T223000
DTSTAMP:20260425T061344
CREATED:20231204T173503Z
LAST-MODIFIED:20240105T074318Z
UID:10000049-1705694400-1705703400@goxel.de
SUMMARY:Jahreshauptversammlung Nachbarschaft Wittenfeld
DESCRIPTION:Jahreshauptversammlung der Nachbarschaft Wittenfeld \n  \nDie Tagesordnung kann hier eingesehen werden: \nEinladung JHV 2024
URL:https://goxel.de/event/jahreshauptversammlung-nachbarschaft-wittenfeld/
LOCATION:Heidekrug\, Goxel 37a\, Coesfeld\, NRW\, 48653\, Deutschland
CATEGORIES:Wittenfeld
ATTACH;FMTTYPE=image/png:https://goxel.de/wp-content/uploads/2023/03/logo_wittenfeld-neu_hell.png
END:VEVENT
BEGIN:VEVENT
DTSTART;TZID=Europe/Berlin:20240126T190000
DTEND;TZID=Europe/Berlin:20240126T210000
DTSTAMP:20260425T061344
CREATED:20231207T164844Z
LAST-MODIFIED:20240126T071329Z
UID:10000051-1706295600-1706302800@goxel.de
SUMMARY:Jugendtreff
DESCRIPTION:Jugendtreff im Pfarrheim
URL:https://goxel.de/event/jugendtreff/
LOCATION:Pfarrzentrum Herz-Jesu-Goxel\, Goxel 13\, Coesfeld\, NRW\, 48653\, Deutschland
CATEGORIES:Wittenfeld
ATTACH;FMTTYPE=image/png:https://goxel.de/wp-content/uploads/2023/03/logo_wittenfeld-neu_hell.png
GEO:51.93354;7.11684
X-APPLE-STRUCTURED-LOCATION;VALUE=URI;X-ADDRESS=Pfarrzentrum Herz-Jesu-Goxel Goxel 13 Coesfeld NRW 48653 Deutschland;X-APPLE-RADIUS=500;X-TITLE=Goxel 13:geo:7.11684,51.93354
END:VEVENT
BEGIN:VEVENT
DTSTART;TZID=Europe/Berlin:20240128T111100
DTEND;TZID=Europe/Berlin:20240128T130000
DTSTAMP:20260425T061344
CREATED:20231207T170321Z
LAST-MODIFIED:20240102T155312Z
UID:10000052-1706440260-1706446800@goxel.de
SUMMARY:Karnevalsmesse
DESCRIPTION:
URL:https://goxel.de/event/karnevalsmesse/
LOCATION:Anna Katharina Kirche\, Am Tüskenbach 18\, Coesfeld\, 48653\, Deutschland
CATEGORIES:Wittenfeld
ATTACH;FMTTYPE=image/jpeg:https://goxel.de/wp-content/uploads/2023/12/Logo-1_Karneval.jpg
END:VEVENT
END:VCALENDAR