BEGIN:VCALENDAR
VERSION:2.0
PRODID:-//Goxel.de - ECPv6.15.13.1//NONSGML v1.0//EN
CALSCALE:GREGORIAN
METHOD:PUBLISH
X-WR-CALNAME:Goxel.de
X-ORIGINAL-URL:https://goxel.de
X-WR-CALDESC:Veranstaltungen für Goxel.de
REFRESH-INTERVAL;VALUE=DURATION:PT1H
X-Robots-Tag:noindex
X-PUBLISHED-TTL:PT1H
BEGIN:VTIMEZONE
TZID:Europe/Berlin
BEGIN:DAYLIGHT
TZOFFSETFROM:+0100
TZOFFSETTO:+0200
TZNAME:CEST
DTSTART:20220327T010000
END:DAYLIGHT
BEGIN:STANDARD
TZOFFSETFROM:+0200
TZOFFSETTO:+0100
TZNAME:CET
DTSTART:20221030T010000
END:STANDARD
BEGIN:DAYLIGHT
TZOFFSETFROM:+0100
TZOFFSETTO:+0200
TZNAME:CEST
DTSTART:20230326T010000
END:DAYLIGHT
BEGIN:STANDARD
TZOFFSETFROM:+0200
TZOFFSETTO:+0100
TZNAME:CET
DTSTART:20231029T010000
END:STANDARD
BEGIN:DAYLIGHT
TZOFFSETFROM:+0100
TZOFFSETTO:+0200
TZNAME:CEST
DTSTART:20240331T010000
END:DAYLIGHT
BEGIN:STANDARD
TZOFFSETFROM:+0200
TZOFFSETTO:+0100
TZNAME:CET
DTSTART:20241027T010000
END:STANDARD
END:VTIMEZONE
BEGIN:VEVENT
DTSTART;TZID=Europe/Berlin:20230401T100000
DTEND;TZID=Europe/Berlin:20230401T120000
DTSTAMP:20260425T181459
CREATED:20230317T110819Z
LAST-MODIFIED:20230317T110819Z
UID:10000010-1680343200-1680350400@goxel.de
SUMMARY:Annahme von Strauchabschnitt für Osterfeuer 2023
DESCRIPTION:In der Zeit von 10 – 12 Uhr wird aus Goxel stammendes Strauchgut für das Osterfeuer 2023 auf Hölscher Festwiese angenommen Bitte außerhalb dieser Zeiten kein Material dort ablagern!
URL:https://goxel.de/event/annahme-von-strauchabschnitt-fuer-osterfeuer-2023-3/
CATEGORIES:Wittenfeld
END:VEVENT
BEGIN:VEVENT
DTSTART;TZID=Europe/Berlin:20230408T100000
DTEND;TZID=Europe/Berlin:20230408T120000
DTSTAMP:20260425T181459
CREATED:20230317T130204Z
LAST-MODIFIED:20230317T130204Z
UID:10000012-1680948000-1680955200@goxel.de
SUMMARY:Annahme von Strauchabschnitt für Osterfeuer 2023
DESCRIPTION:In der Zeit von 10 – 12 Uhr wird aus Goxel stammendes Strauchgut für das Osterfeuer 2023 auf Hölscher Festwiese angenommen Bitte außerhalb dieser Zeiten kein Material dort ablagern!
URL:https://goxel.de/event/annahme-von-strauchabschnitt-fuer-osterfeuer-2023-4/
CATEGORIES:Wittenfeld
END:VEVENT
BEGIN:VEVENT
DTSTART;TZID=Europe/Berlin:20230409T233000
DTEND;TZID=Europe/Berlin:20230409T233000
DTSTAMP:20260425T181459
CREATED:20230318T154936Z
LAST-MODIFIED:20230318T154936Z
UID:10000018-1681083000-1681083000@goxel.de
SUMMARY:Osterfeuer auf Hölschers Festwiese
DESCRIPTION:Um 19:30 Uhr gibt es eine kleine Andacht in der Herz-Jesu-Kirche. Danach entzündet das amtierende Heidekönispaar Tanzja Gerding und Herbert Gehlmann mit dem Licht der Osterkerze das Osterfeuer. \nFür das leibliche Wohl ist gesorgt. Sitzgelegenheiten sind vorhanden. Die Kinder können an einem kleinen Feuer Stockbrot backen. \nStrauchabschnitt können an den vier Samstagen vor Ostern am Zeltplatz auf Hölschers Festwiese abgelegt werden. Wer an diesen Terminen keine Zeit hat\, kann sich gerne mit Herbert Gehlmann\, Tel. 0151v 56100880 in Verbindung setzen.
URL:https://goxel.de/event/osterfeuer-auf-hoelschers-festwiese/
LOCATION:Herz-Jesu-Kirche\, Goxel 13\, Coesfeld\, NRW\, 48653
GEO:51.93354;7.11684
X-APPLE-STRUCTURED-LOCATION;VALUE=URI;X-ADDRESS=Herz-Jesu-Kirche Goxel 13 Coesfeld NRW 48653;X-APPLE-RADIUS=500;X-TITLE=Goxel 13:geo:7.11684,51.93354
END:VEVENT
BEGIN:VEVENT
DTSTART;TZID=Europe/Berlin:20230413T143000
DTEND;TZID=Europe/Berlin:20230413T173000
DTSTAMP:20260425T181459
CREATED:20230318T155122Z
LAST-MODIFIED:20230318T160243Z
UID:10000019-1681396200-1681407000@goxel.de
SUMMARY:Seniorennachmittag der Nachbarschaft Wittenfeld
DESCRIPTION:
URL:https://goxel.de/event/seniorennachmittag-der-nachbarschaft-wittenfeld/
LOCATION:Pfarrzentrum Herz-Jesu-Goxel\, Goxel 13\, Coesfeld\, NRW\, 48653\, Deutschland
GEO:51.93354;7.11684
X-APPLE-STRUCTURED-LOCATION;VALUE=URI;X-ADDRESS=Pfarrzentrum Herz-Jesu-Goxel Goxel 13 Coesfeld NRW 48653 Deutschland;X-APPLE-RADIUS=500;X-TITLE=Goxel 13:geo:7.11684,51.93354
END:VEVENT
BEGIN:VEVENT
DTSTART;TZID=Europe/Berlin:20230414T200000
DTEND;TZID=Europe/Berlin:20230414T220000
DTSTAMP:20260425T181459
CREATED:20230411T081804Z
LAST-MODIFIED:20230411T081804Z
UID:10000044-1681502400-1681509600@goxel.de
SUMMARY:Außerordentliche Mitgliederversammlung des Schützenvereins
DESCRIPTION:Einladung zur außerordentlichen Mitgliederversammlung am Freitag. 14.04.2023 um 20.00 Uhr im Heidekrug in Coesfeld-Goxel \nHiermit lädt der Vorstand des Schützenvereins gemäß § 8.1a  1. Halbsatz unserer Satzung zur außerordentlichen Mitgliederversammlung ein. Eine außerordentliche Mitgliederversammlung wird einberufen weil: “das Interesse des Vereins dieses erfordert“. \nTagesordnung: \n\nBegrüßung\nVorstellung der  –bei Aufnahme von weiblichen/diversen Mitgliedern– notwendigen Satzungsänderungen und weitere Aktualisierungen der bestehenden Satzung\nBestimmung eines Versammlungs- und Abstimmungsleiters\nDiskussion zu den vorgenannten Punkten\nAbstimmung über den Auftrag zur Satzungsänderung die dann ggf. zur nächsten JHV zur Abstimmung kommt.\nVerschiedenes\n\nDie aktuelle Satzung ist auf dieser Homepage\, Teilbereich Schützenverein\, hier einsehbar. Auf Wunsch wird auch eine schriftliche Version zur Verfügung gestellt.  Bei Bedarf bitte bei Martin Lammering (1. Schriftführer) Tel. 2171 melden. \nGemäß § 9 unserer Satzung hat jedes Mitglied das Recht\, schriftlich beim Vorstand bis drei Tage vor der Mitgliedersammlung  (10. April 2023 bis 23.59 Uhr) Anträge auf Erweiterung der Tagesordnung zu stellen. \nSeit der Jahreshauptversammlung im Januar vergeht kaum ein Tag\, an dem nicht über dieses Thema diskutiert wird. Das Interesse und die unterschiedlichen Meinungen der Mitglieder könnten größer kaum sein. Daher hoffen wir auf zahlreiche Beteiligung. \n gez. Holger Kaup\n1. Vorsitzender
URL:https://goxel.de/event/ausserordentliche-mitgliederversammlung-des-schuetzenvereins/
LOCATION:Heidekrug\, Goxel 37a\, Coesfeld\, NRW\, 48653\, Deutschland
CATEGORIES:Schützenverein
END:VEVENT
BEGIN:VEVENT
DTSTART;TZID=Europe/Berlin:20230427T140000
DTEND;TZID=Europe/Berlin:20230427T183000
DTSTAMP:20260425T181459
CREATED:20230324T141431Z
LAST-MODIFIED:20230324T143635Z
UID:10000036-1682604000-1682620200@goxel.de
SUMMARY:GoWi-Radtour -  Ziel: Camping Waldesruh
DESCRIPTION:„GoWi“ = Goxel-Wittenfelder Radtour – monatliches Angebot vom Frühjahr bis zum Herbst\, jeweils mit einer Einkehr am Ziel. \nVorbereitungsteam: Uwe\, Albert\, Heinz\, Paul und Charlie.
URL:https://goxel.de/event/gowi-radtour-ziel-camping-waldesruh/
CATEGORIES:Wittenfeld
ATTACH;FMTTYPE=image/jpeg:https://goxel.de/wp-content/uploads/2023/03/gowi-rad-3-1055.jpg
END:VEVENT
END:VCALENDAR