BEGIN:VCALENDAR
VERSION:2.0
PRODID:-//Goxel.de - ECPv6.15.13.1//NONSGML v1.0//EN
CALSCALE:GREGORIAN
METHOD:PUBLISH
X-WR-CALNAME:Goxel.de
X-ORIGINAL-URL:https://goxel.de
X-WR-CALDESC:Veranstaltungen für Goxel.de
REFRESH-INTERVAL;VALUE=DURATION:PT1H
X-Robots-Tag:noindex
X-PUBLISHED-TTL:PT1H
BEGIN:VTIMEZONE
TZID:Europe/Berlin
BEGIN:DAYLIGHT
TZOFFSETFROM:+0100
TZOFFSETTO:+0200
TZNAME:CEST
DTSTART:20220327T010000
END:DAYLIGHT
BEGIN:STANDARD
TZOFFSETFROM:+0200
TZOFFSETTO:+0100
TZNAME:CET
DTSTART:20221030T010000
END:STANDARD
BEGIN:DAYLIGHT
TZOFFSETFROM:+0100
TZOFFSETTO:+0200
TZNAME:CEST
DTSTART:20230326T010000
END:DAYLIGHT
BEGIN:STANDARD
TZOFFSETFROM:+0200
TZOFFSETTO:+0100
TZNAME:CET
DTSTART:20231029T010000
END:STANDARD
BEGIN:DAYLIGHT
TZOFFSETFROM:+0100
TZOFFSETTO:+0200
TZNAME:CEST
DTSTART:20240331T010000
END:DAYLIGHT
BEGIN:STANDARD
TZOFFSETFROM:+0200
TZOFFSETTO:+0100
TZNAME:CET
DTSTART:20241027T010000
END:STANDARD
END:VTIMEZONE
BEGIN:VEVENT
DTSTART;TZID=Europe/Berlin:20230318T100000
DTEND;TZID=Europe/Berlin:20230318T120000
DTSTAMP:20260425T195400
CREATED:20230317T064935Z
LAST-MODIFIED:20230317T064935Z
UID:10000008-1679133600-1679140800@goxel.de
SUMMARY:Annahme von Strauchabschnitt für Osterfeuer 2023
DESCRIPTION:In der Zeit von 10 – 12 Uhr wird aus Goxel stammendes Strauchgut für das Osterfeuer 2023 auf Hölscher Festwiese angenommen Bitte außerhalb dieser Zeiten kein Material dort ablagern!
URL:https://goxel.de/event/annahme-von-strauchabschnitt-fuer-osterfeuer-2023/
END:VEVENT
BEGIN:VEVENT
DTSTART;TZID=Europe/Berlin:20230318T143000
DTEND;TZID=Europe/Berlin:20230318T213000
DTSTAMP:20260425T195400
CREATED:20230317T061442Z
LAST-MODIFIED:20230317T182314Z
UID:10000007-1679149800-1679175000@goxel.de
SUMMARY:Kicker-Turnier im Heidekrug am 18. März
DESCRIPTION:Die Einladung gilt für alle Mitglieder\, Freunde/innen und Gönner/innen des Vereins! \nMindestalter für die Teilnahme: 16 Jahre \nTeilnahmegebühr pro Person: 5€ \nEinlass ab 14:30 Uhr \nFür das leibliche Wohl wird gesorgt. \nFür die besten Teams wird es tolle Preise geben! \nIhr dürft euch gerne in 2er Teams anmelden. Für jeden\, der vor Turnierbeginn noch keinen Partner gefunden hat\, werden wir vor Ort noch einen Mitstreiter finden. Eine Voranmeldung ist nicht nötig. \nAuch Zuschauer\, die nicht mitspielen\, sind zum Anfeuern gerne gesehen. \nAuf der Veranstaltung werden Fotos gemacht\, mit deren auch späteren Verwendung auf unserer Homepage „www.goxel.de“ ihr euch durch den Besuch der Veranstaltung einverstanden erklärt.
URL:https://goxel.de/event/kicker-turnier-im-heidekrug/
LOCATION:Heidekrug\, Goxel 37a\, Coesfeld\, NRW\, 48653\, Deutschland
CATEGORIES:Schützenverein
ATTACH;FMTTYPE=image/jpeg:https://goxel.de/wp-content/uploads/2023/03/Tischkicker-1.jpg
END:VEVENT
BEGIN:VEVENT
DTSTART;TZID=Europe/Berlin:20230324T100000
DTEND;TZID=Europe/Berlin:20230324T120000
DTSTAMP:20260425T195400
CREATED:20230317T102455Z
LAST-MODIFIED:20230317T132740Z
UID:10000009-1679652000-1679659200@goxel.de
SUMMARY:Annahme von Strauchabschnitt für Osterfeuer 2023
DESCRIPTION:In der Zeit von 10 – 12 Uhr wird aus Goxel stammendes Strauchgut für das Osterfeuer 2023 auf Hölscher Festwiese angenommen Bitte außerhalb dieser Zeiten kein Material dort ablagern!
URL:https://goxel.de/event/annahme-von-strauchabschnitt-fuer-osterfeuer-2023-2/
CATEGORIES:Wittenfeld
END:VEVENT
BEGIN:VEVENT
DTSTART;TZID=Europe/Berlin:20230324T200000
DTEND;TZID=Europe/Berlin:20230324T220000
DTSTAMP:20260425T195400
CREATED:20230317T132624Z
LAST-MODIFIED:20230322T185332Z
UID:10000013-1679688000-1679695200@goxel.de
SUMMARY:Jahreshauptversammlung der Nachbarschaft Wittenfeld
DESCRIPTION:Liebe Wittenfelderinnen\, liebe Wittenfelder \nhiermit laden wir Euch herzlich zur Jahreshauptversammlung am 24.03.2023 um 20:00 Uhr in den Heidekrug Goxel ein. \nTagesordnung:\n\n\nBegrüßung\nTotengedenken\nBericht/Rückschau über die Veranstaltungen der Nachbarschaft 2022/23\nBericht über die Veranstaltungen der Senioren/-innen 2022/23\nKinder- und Jugendarbeit\nKassenbericht\nBericht der Kassenprüfer/-innen\nVorstandswahlen:\nVorsitzende/r                            z.Z. Thomas Wiesweg\nSchriftführer/in                         z.Z.  Tanja Bäumer\nKassierer/in                              z.Z. Frank Rohls\nKassierer/in v. Bezirk 2                z.Z. Sabine Kappe\nKassierer/in v. Bezirk 3                z.Z. Claudia Strotkemper\nKassierer/in v. Bezirk 4                z.Z. Robert Schwietering\nWahl der Kassenprüfer/-innen\nÄnderung der Statuten\nVorschau auf die Aktivitäten 2023\nSommerfest    –     Änderung der Festfolge\nBericht des Goxelrats\nVerschiedenes:\n\nHier haben alle Mitglieder die Möglichkeit ihre Wünsche und Anliegen schriftlich anzumelden. Bitte meldet Euch bis zum 12.03.2023 bei Eurer Bezirkskassiererin bzw. Eurerem Bezirkskassier\, dann können diese Punkte als Tagesordnungspunkte unter Verschiedenes aufgenommen werden. Teilnehmer/-innen der Jahreshauptversammlung bekommen einen Teil der Verzehrkosten erstattet und nehmen an einer Verlosung teil. \nWir freuen uns auf Euer zahlreiches Erscheinen durch das Ihr Euer Interesse an der Nachbarschaft zum Ausdruck bringt. \n   Der Vorstand der Nachbarschaft
URL:https://goxel.de/event/jahreshauptversammlung-der-nachbarschaft-wittenfeld/
LOCATION:Heidekrug\, Goxel 37a\, Coesfeld\, NRW\, 48653\, Deutschland
ATTACH;FMTTYPE=image/png:https://goxel.de/wp-content/uploads/2023/03/logo_wittenfeld-neu_hell.png
END:VEVENT
BEGIN:VEVENT
DTSTART;TZID=Europe/Berlin:20230325T093000
DTEND;TZID=Europe/Berlin:20230325T113000
DTSTAMP:20260425T195400
CREATED:20230317T133531Z
LAST-MODIFIED:20230317T133531Z
UID:10000014-1679736600-1679743800@goxel.de
SUMMARY:Straßensäuberungsaktion
DESCRIPTION:Wieder einmal brauchen wir die tatkräftige Unterstützung von vielen Goxelerinnen und Goxelern. Wir schließen uns der Aktion der Stadt Coesfeld an und reinigen die Straßen rund um das Wohngebiet\, der B525 und Teilen der Borkener Straße. Treffpunkt ist das Lagerhaus an der ehem. Mühle Ahlert. um an der Aktion der Stadt Coesfeld
URL:https://goxel.de/event/strassensaeuberungsaktion/
END:VEVENT
BEGIN:VEVENT
DTSTART;TZID=Europe/Berlin:20230325T193000
DTEND;TZID=Europe/Berlin:20230325T220000
DTSTAMP:20260425T195400
CREATED:20230317T135022Z
LAST-MODIFIED:20230317T135022Z
UID:10000015-1679772600-1679781600@goxel.de
SUMMARY:KfD-Theater in Goxel
DESCRIPTION:„Theater in Goxel“ heißt es am Samstag 25. März um 19:30 Uhr und Sonntag 26. März um 14:30 Uhr im Pfarrzentrum Goxel. Die Theatergruppe der katholischen Frauengemeinschaft (kfd) stellt\, wie in den vergangenen Jahren vor Corona\, wieder ihr schauspielerisches Können unter Beweis. Für die Vorstellung am Sonntag mit Kaffee und Kuchen mit Anmeldung. Am Samstag öffnet sich der Vorhang für alle Interessierten ohne Anmeldung. Samstag 6 €\, Sonntag 8 €. Weitere Informationen bei Margret Brockmann Tel.: 02541 – 6471 \n Die Theatergruppe freut sich auf Ihr Kommen.
URL:https://goxel.de/event/kfd-theater-in-goxel/
LOCATION:Pfarrzentrum Herz-Jesu-Goxel\, Goxel 13\, Coesfeld\, NRW\, 48653\, Deutschland
GEO:51.93354;7.11684
X-APPLE-STRUCTURED-LOCATION;VALUE=URI;X-ADDRESS=Pfarrzentrum Herz-Jesu-Goxel Goxel 13 Coesfeld NRW 48653 Deutschland;X-APPLE-RADIUS=500;X-TITLE=Goxel 13:geo:7.11684,51.93354
END:VEVENT
BEGIN:VEVENT
DTSTART;TZID=Europe/Berlin:20230326T143000
DTEND;TZID=Europe/Berlin:20230326T170000
DTSTAMP:20260425T195400
CREATED:20230317T154844Z
LAST-MODIFIED:20230317T154844Z
UID:10000016-1679841000-1679850000@goxel.de
SUMMARY:KfD-Theater in Goxel
DESCRIPTION:„Theater in Goxel“ heißt es am Samstag 25. März um 19:30 Uhr und Sonntag 26. März um 14:30 Uhr im Pfarrzentrum Goxel. Die Theatergruppe der katholischen Frauengemeinschaft (kfd) stellt\, wie in den vergangenen Jahren vor Corona\, wieder ihr schauspielerisches Können unter Beweis. Für die Vorstellung am Sonntag mit Kaffee und Kuchen mit Anmeldung. Am Samstag öffnet sich der Vorhang für alle Interessierten ohne Anmeldung. Samstag 6 €\, Sonntag 8 €. Weitere Informationen bei Margret Brockmann Tel.: 02541 – 6471 \n Die Theatergruppe freut sich auf Ihr Kommen.
URL:https://goxel.de/event/kfd-theater-in-goxel-2/
LOCATION:Pfarrzentrum Herz-Jesu-Goxel\, Goxel 13\, Coesfeld\, NRW\, 48653\, Deutschland
GEO:51.93354;7.11684
X-APPLE-STRUCTURED-LOCATION;VALUE=URI;X-ADDRESS=Pfarrzentrum Herz-Jesu-Goxel Goxel 13 Coesfeld NRW 48653 Deutschland;X-APPLE-RADIUS=500;X-TITLE=Goxel 13:geo:7.11684,51.93354
END:VEVENT
BEGIN:VEVENT
DTSTART;TZID=Europe/Berlin:20230330T140000
DTEND;TZID=Europe/Berlin:20230330T183000
DTSTAMP:20260425T195400
CREATED:20230324T141639Z
LAST-MODIFIED:20230324T141639Z
UID:10000037-1680184800-1680201000@goxel.de
SUMMARY:GoWi-Radtour -  Ziel: Waldmühle Dülmen
DESCRIPTION:„GoWi“ = Goxel-Wittenfelder Radtour – monatliche Angebot vom Frühjahr bis zum Herbst\, jeweils mit einer Einkehr am Ziel. \nVorbereitungsteam: Uwe\, Albert\, Heinz\, Paul und Charlie.
URL:https://goxel.de/event/gowi-radtour-ziel-waldmuehle-duelmen/
CATEGORIES:Wittenfeld
END:VEVENT
END:VCALENDAR