BEGIN:VCALENDAR
VERSION:2.0
PRODID:-//Goxel.de - ECPv6.15.13.1//NONSGML v1.0//EN
CALSCALE:GREGORIAN
METHOD:PUBLISH
X-WR-CALNAME:Goxel.de
X-ORIGINAL-URL:https://goxel.de
X-WR-CALDESC:Veranstaltungen für Goxel.de
REFRESH-INTERVAL;VALUE=DURATION:PT1H
X-Robots-Tag:noindex
X-PUBLISHED-TTL:PT1H
BEGIN:VTIMEZONE
TZID:Europe/Berlin
BEGIN:DAYLIGHT
TZOFFSETFROM:+0100
TZOFFSETTO:+0200
TZNAME:CEST
DTSTART:20230326T010000
END:DAYLIGHT
BEGIN:STANDARD
TZOFFSETFROM:+0200
TZOFFSETTO:+0100
TZNAME:CET
DTSTART:20231029T010000
END:STANDARD
BEGIN:DAYLIGHT
TZOFFSETFROM:+0100
TZOFFSETTO:+0200
TZNAME:CEST
DTSTART:20240331T010000
END:DAYLIGHT
BEGIN:STANDARD
TZOFFSETFROM:+0200
TZOFFSETTO:+0100
TZNAME:CET
DTSTART:20241027T010000
END:STANDARD
BEGIN:DAYLIGHT
TZOFFSETFROM:+0100
TZOFFSETTO:+0200
TZNAME:CEST
DTSTART:20250330T010000
END:DAYLIGHT
BEGIN:STANDARD
TZOFFSETFROM:+0200
TZOFFSETTO:+0100
TZNAME:CET
DTSTART:20251026T010000
END:STANDARD
END:VTIMEZONE
BEGIN:VEVENT
DTSTART;TZID=Europe/Berlin:20241130T130000
DTEND;TZID=Europe/Berlin:20241130T193000
DTSTAMP:20260422T122100
CREATED:20240403T063745Z
LAST-MODIFIED:20241008T183356Z
UID:10000377-1732971600-1732995000@goxel.de
SUMMARY:Fahrt zum Weihnachtsmarkt nach Hattingen
DESCRIPTION:Fahrt zum Weihnachtsmarkt nach Hattingen 2024
URL:https://goxel.de/event/fahrt-zum-weihnachtsmarkt-nach-hattingen/
CATEGORIES:Wittenfeld
ATTACH;FMTTYPE=image/png:https://goxel.de/wp-content/uploads/2024/10/Hattingen-2024.png
END:VEVENT
END:VCALENDAR