BEGIN:VCALENDAR
VERSION:2.0
PRODID:-//Goxel.de - ECPv6.15.13.1//NONSGML v1.0//EN
CALSCALE:GREGORIAN
METHOD:PUBLISH
X-ORIGINAL-URL:https://goxel.de
X-WR-CALDESC:Veranstaltungen für Goxel.de
REFRESH-INTERVAL;VALUE=DURATION:PT1H
X-Robots-Tag:noindex
X-PUBLISHED-TTL:PT1H
BEGIN:VTIMEZONE
TZID:Europe/Berlin
BEGIN:DAYLIGHT
TZOFFSETFROM:+0100
TZOFFSETTO:+0200
TZNAME:CEST
DTSTART:20230326T010000
END:DAYLIGHT
BEGIN:STANDARD
TZOFFSETFROM:+0200
TZOFFSETTO:+0100
TZNAME:CET
DTSTART:20231029T010000
END:STANDARD
BEGIN:DAYLIGHT
TZOFFSETFROM:+0100
TZOFFSETTO:+0200
TZNAME:CEST
DTSTART:20240331T010000
END:DAYLIGHT
BEGIN:STANDARD
TZOFFSETFROM:+0200
TZOFFSETTO:+0100
TZNAME:CET
DTSTART:20241027T010000
END:STANDARD
BEGIN:DAYLIGHT
TZOFFSETFROM:+0100
TZOFFSETTO:+0200
TZNAME:CEST
DTSTART:20250330T010000
END:DAYLIGHT
BEGIN:STANDARD
TZOFFSETFROM:+0200
TZOFFSETTO:+0100
TZNAME:CET
DTSTART:20251026T010000
END:STANDARD
END:VTIMEZONE
BEGIN:VEVENT
DTSTART;VALUE=DATE:20240509
DTEND;VALUE=DATE:20240510
DTSTAMP:20260425T001003
CREATED:20231223T164123Z
LAST-MODIFIED:20240420T110842Z
UID:10000088-1715212800-1715299199@goxel.de
SUMMARY:Schützenfest: Hl. Messe\, Totengedenken\, Ehrungen\, Königsschießen
DESCRIPTION:9.30 Uhr\nAntreten am Berningweg/ Franz-Rohls-Platz \nAnzugsordnung:\nErster Zug: Schwarze Hose\, weißes Hemd mit Emblem\, dunkle Schuhe\, Schützenhut\, Mitgliedsfähnchen\,\nGewehr mit weißer Papierblume \nZweiter Zug: Wie 1. Zug\, jedoch Gewehr mit roter Papierblume                                                            \nVorstand: Schwarzer Anzug\, Schützenhut\, Abzeichen \n9.45 Uhr\nAbmarsch zur Kirche \n10.00 Uhr\nKranzniederlegung und Heilige Messe für die Lebenden und Verstorbenen des Schützenvereins\nanschl.  Ehrungen und Abmarsch zur Schützenhalle\,  Töttchenessen\, Ablegen der Gewehre \nca- 13.00 Uhr Beginn des Vogelschießens \nca. 18.00 Uhr Proklamation des Königspaares und gemütlicher Ausklang \n  \nBataillonsbefehl \n\nWer zum Antreten bei den einzelnen Veranstaltungen verspätet\, ohne Kopfbedeckung oder anderer vorgeschriebener Anzugsordnung erscheint\, zahlt für jedes „Vergehen“ einen Bullenkopp in die Vereinskasse.\nDie Festabzeichen sind am Gewehrabend\, zum Vogelschießen\, beim Königsball und auch beim Frühschoppen zu tragen.\nEhrenmitglieder\, die ohne Gewehr mit ausmarschieren möchten\, reihen sich bitte hinter dem Vorstand ein.\n\nHinweis:\nAuf den Veranstaltungen werden Fotos gemacht\, mit deren auch späteren Verwendung auf dieser Homepage ihr euch durch den Besuch der Veranstaltung einverstanden erklärt. \n  \n 
URL:https://goxel.de/event/schuetzenfest-hl-messe-totengedenken-ehrungen-koenigsschiessen/
LOCATION:Herz-Jesu-Kirche\, Goxel 13\, Coesfeld\, NRW\, 48653
CATEGORIES:Lokales,Schützenverein
ATTACH;FMTTYPE=image/jpeg:https://goxel.de/wp-content/uploads/2023/12/sv-wappen-klein.jpg
GEO:51.93354;7.11684
X-APPLE-STRUCTURED-LOCATION;VALUE=URI;X-ADDRESS=Herz-Jesu-Kirche Goxel 13 Coesfeld NRW 48653;X-APPLE-RADIUS=500;X-TITLE=Goxel 13:geo:7.11684,51.93354
END:VEVENT
END:VCALENDAR