BEGIN:VCALENDAR
VERSION:2.0
PRODID:-//Goxel.de - ECPv6.15.13.1//NONSGML v1.0//EN
CALSCALE:GREGORIAN
METHOD:PUBLISH
X-ORIGINAL-URL:https://goxel.de
X-WR-CALDESC:Veranstaltungen für Goxel.de
REFRESH-INTERVAL;VALUE=DURATION:PT1H
X-Robots-Tag:noindex
X-PUBLISHED-TTL:PT1H
BEGIN:VTIMEZONE
TZID:Europe/Berlin
BEGIN:DAYLIGHT
TZOFFSETFROM:+0100
TZOFFSETTO:+0200
TZNAME:CEST
DTSTART:20230326T010000
END:DAYLIGHT
BEGIN:STANDARD
TZOFFSETFROM:+0200
TZOFFSETTO:+0100
TZNAME:CET
DTSTART:20231029T010000
END:STANDARD
BEGIN:DAYLIGHT
TZOFFSETFROM:+0100
TZOFFSETTO:+0200
TZNAME:CEST
DTSTART:20240331T010000
END:DAYLIGHT
BEGIN:STANDARD
TZOFFSETFROM:+0200
TZOFFSETTO:+0100
TZNAME:CET
DTSTART:20241027T010000
END:STANDARD
BEGIN:DAYLIGHT
TZOFFSETFROM:+0100
TZOFFSETTO:+0200
TZNAME:CEST
DTSTART:20250330T010000
END:DAYLIGHT
BEGIN:STANDARD
TZOFFSETFROM:+0200
TZOFFSETTO:+0100
TZNAME:CET
DTSTART:20251026T010000
END:STANDARD
END:VTIMEZONE
BEGIN:VEVENT
DTSTART;TZID=Europe/Berlin:20240507T190000
DTEND;TZID=Europe/Berlin:20240507T223000
DTSTAMP:20260425T000836
CREATED:20231223T165828Z
LAST-MODIFIED:20240420T080722Z
UID:10000092-1715108400-1715121000@goxel.de
SUMMARY:Schmücken der Schützenhalle und des Königswagens
DESCRIPTION:19.00 Uhr\nSchmücken der Schützenhalle und des Königswagen \nverantwortlich Mitglieder des Bezirks 3 (Kassierer Andreas Kaup)\, aber auch alle anderen Mitglieder sind herzlich eingeladen! \nAuf den Veranstaltungen werden Fotos gemacht\, mit deren auch späteren Verwendung auf dieser Homepage ihr euch durch den Besuch der Veranstaltung einverstanden erklärt. \n 
URL:https://goxel.de/event/schmuecken-der-schuetzenhalle-und-des-koenigswagens-3/
LOCATION:Schützenhalle des Schützenvereins Goxel e.V.\, Goxel 39\, Coesfeld\, NRW\, 48653\, Deutschland
CATEGORIES:Schützenverein
GEO:51929802;7103764
X-APPLE-STRUCTURED-LOCATION;VALUE=URI;X-ADDRESS=Schützenhalle des Schützenvereins Goxel e.V. Goxel 39 Coesfeld NRW 48653 Deutschland;X-APPLE-RADIUS=500;X-TITLE=Goxel 39:geo:7103764,51929802
END:VEVENT
END:VCALENDAR