BEGIN:VCALENDAR
VERSION:2.0
PRODID:-//Goxel.de - ECPv6.15.13.1//NONSGML v1.0//EN
CALSCALE:GREGORIAN
METHOD:PUBLISH
X-WR-CALNAME:Goxel.de
X-ORIGINAL-URL:https://goxel.de
X-WR-CALDESC:Veranstaltungen für Goxel.de
REFRESH-INTERVAL;VALUE=DURATION:PT1H
X-Robots-Tag:noindex
X-PUBLISHED-TTL:PT1H
BEGIN:VTIMEZONE
TZID:Europe/Berlin
BEGIN:DAYLIGHT
TZOFFSETFROM:+0100
TZOFFSETTO:+0200
TZNAME:CEST
DTSTART:20230326T010000
END:DAYLIGHT
BEGIN:STANDARD
TZOFFSETFROM:+0200
TZOFFSETTO:+0100
TZNAME:CET
DTSTART:20231029T010000
END:STANDARD
BEGIN:DAYLIGHT
TZOFFSETFROM:+0100
TZOFFSETTO:+0200
TZNAME:CEST
DTSTART:20240331T010000
END:DAYLIGHT
BEGIN:STANDARD
TZOFFSETFROM:+0200
TZOFFSETTO:+0100
TZNAME:CET
DTSTART:20241027T010000
END:STANDARD
BEGIN:DAYLIGHT
TZOFFSETFROM:+0100
TZOFFSETTO:+0200
TZNAME:CEST
DTSTART:20250330T010000
END:DAYLIGHT
BEGIN:STANDARD
TZOFFSETFROM:+0200
TZOFFSETTO:+0100
TZNAME:CET
DTSTART:20251026T010000
END:STANDARD
END:VTIMEZONE
BEGIN:VEVENT
DTSTART;TZID=Europe/Berlin:20240428T110000
DTEND;TZID=Europe/Berlin:20240428T163000
DTSTAMP:20260425T014347
CREATED:20240402T095323Z
LAST-MODIFIED:20250408T090250Z
UID:10000376-1714302000-1714321800@goxel.de
SUMMARY:Straßenflohmarkt
DESCRIPTION:Privater Flohmarkt für (Kinder-) Kleidung\, Spielzeug\, Deko\, Gartenutensilien\, Krimskrams etc.
URL:https://goxel.de/event/strassenflohmarkt/
ATTACH;FMTTYPE=image/jpeg:https://goxel.de/wp-content/uploads/2025/04/2025-04-flohmarkt-staende-e1744103608160.jpg
END:VEVENT
END:VCALENDAR