BEGIN:VCALENDAR
VERSION:2.0
PRODID:-//Goxel.de - ECPv6.15.13.1//NONSGML v1.0//EN
CALSCALE:GREGORIAN
METHOD:PUBLISH
X-WR-CALNAME:Goxel.de
X-ORIGINAL-URL:https://goxel.de
X-WR-CALDESC:Veranstaltungen für Goxel.de
REFRESH-INTERVAL;VALUE=DURATION:PT1H
X-Robots-Tag:noindex
X-PUBLISHED-TTL:PT1H
BEGIN:VTIMEZONE
TZID:Europe/Berlin
BEGIN:DAYLIGHT
TZOFFSETFROM:+0100
TZOFFSETTO:+0200
TZNAME:CEST
DTSTART:20230326T010000
END:DAYLIGHT
BEGIN:STANDARD
TZOFFSETFROM:+0200
TZOFFSETTO:+0100
TZNAME:CET
DTSTART:20231029T010000
END:STANDARD
BEGIN:DAYLIGHT
TZOFFSETFROM:+0100
TZOFFSETTO:+0200
TZNAME:CEST
DTSTART:20240331T010000
END:DAYLIGHT
BEGIN:STANDARD
TZOFFSETFROM:+0200
TZOFFSETTO:+0100
TZNAME:CET
DTSTART:20241027T010000
END:STANDARD
BEGIN:DAYLIGHT
TZOFFSETFROM:+0100
TZOFFSETTO:+0200
TZNAME:CEST
DTSTART:20250330T010000
END:DAYLIGHT
BEGIN:STANDARD
TZOFFSETFROM:+0200
TZOFFSETTO:+0100
TZNAME:CET
DTSTART:20251026T010000
END:STANDARD
END:VTIMEZONE
BEGIN:VEVENT
DTSTART;TZID=Europe/Berlin:20240427T183000
DTEND;TZID=Europe/Berlin:20240427T203000
DTSTAMP:20260425T014357
CREATED:20240415T143717Z
LAST-MODIFIED:20240415T143717Z
UID:10000378-1714242600-1714249800@goxel.de
SUMMARY:Andacht am Lagerfeuer
DESCRIPTION:
URL:https://goxel.de/event/andacht-am-lagerfeuer/
LOCATION:Herz-Jesu-Kirche\, Goxel 13\, Coesfeld\, NRW\, 48653
CATEGORIES:Lokales
ATTACH;FMTTYPE=image/jpeg:https://goxel.de/wp-content/uploads/2024/04/27.04.2024.jpeg
GEO:51.93354;7.11684
X-APPLE-STRUCTURED-LOCATION;VALUE=URI;X-ADDRESS=Herz-Jesu-Kirche Goxel 13 Coesfeld NRW 48653;X-APPLE-RADIUS=500;X-TITLE=Goxel 13:geo:7.11684,51.93354
END:VEVENT
BEGIN:VEVENT
DTSTART;TZID=Europe/Berlin:20240427T193000
DTEND;TZID=Europe/Berlin:20240427T223000
DTSTAMP:20260425T014357
CREATED:20231223T132453Z
LAST-MODIFIED:20240420T080311Z
UID:10000086-1714246200-1714257000@goxel.de
SUMMARY:Gewehrabend und Schmücken der Vogelstange
DESCRIPTION:19.30 Uhr\nAntreten vor der Schützenhalle \n19.45 Uhr\n(pünktlich!) Abmarsch zur Vogelstange\,\nAufsetzen des Zweiges und Rückmarsch ins Quartier\,\nGewehrkontrolle\,\nWegtreten zum gemütlichen Teil \n–  Partnerinnen sind herzlich eingeladen! – \nBeim Gewehrabend wird von allen männlichen Mitgliedern ein Obolus von 10 EURO zur Mitfinanzierung eingesammelt. Der Rest kommt aus der Vereinskasse (aus „Bullenköppen“ oder Freibier von Bierkönigen). Sollte auch das -oder weitere Spenden- nicht reichen\, wird gesammelt! \nVon Nicht-Mitgliedern wird eine Pauschale von 10 EURO erhoben. \nAuf den Veranstaltungen werden Fotos gemacht\, mit deren auch späteren Verwendung auf dieser Homepage ihr euch durch den Besuch der Veranstaltung einverstanden erklärt.
URL:https://goxel.de/event/gewehrabend-und-schmuecken-der-vogelstange-2/
LOCATION:Schützenhalle des Schützenvereins Goxel e.V.\, Goxel 39\, Coesfeld\, NRW\, 48653\, Deutschland
CATEGORIES:Schützenverein
ATTACH;FMTTYPE=image/jpeg:https://goxel.de/wp-content/uploads/2023/12/sv-wappen-klein.jpg
GEO:51929802;7103764
X-APPLE-STRUCTURED-LOCATION;VALUE=URI;X-ADDRESS=Schützenhalle des Schützenvereins Goxel e.V. Goxel 39 Coesfeld NRW 48653 Deutschland;X-APPLE-RADIUS=500;X-TITLE=Goxel 39:geo:7103764,51929802
END:VEVENT
END:VCALENDAR