BEGIN:VCALENDAR
VERSION:2.0
PRODID:-//Goxel.de - ECPv6.15.13.1//NONSGML v1.0//EN
CALSCALE:GREGORIAN
METHOD:PUBLISH
X-ORIGINAL-URL:https://goxel.de
X-WR-CALDESC:Veranstaltungen für Goxel.de
REFRESH-INTERVAL;VALUE=DURATION:PT1H
X-Robots-Tag:noindex
X-PUBLISHED-TTL:PT1H
BEGIN:VTIMEZONE
TZID:Europe/Berlin
BEGIN:DAYLIGHT
TZOFFSETFROM:+0100
TZOFFSETTO:+0200
TZNAME:CEST
DTSTART:20220327T010000
END:DAYLIGHT
BEGIN:STANDARD
TZOFFSETFROM:+0200
TZOFFSETTO:+0100
TZNAME:CET
DTSTART:20221030T010000
END:STANDARD
BEGIN:DAYLIGHT
TZOFFSETFROM:+0100
TZOFFSETTO:+0200
TZNAME:CEST
DTSTART:20230326T010000
END:DAYLIGHT
BEGIN:STANDARD
TZOFFSETFROM:+0200
TZOFFSETTO:+0100
TZNAME:CET
DTSTART:20231029T010000
END:STANDARD
BEGIN:DAYLIGHT
TZOFFSETFROM:+0100
TZOFFSETTO:+0200
TZNAME:CEST
DTSTART:20240331T010000
END:DAYLIGHT
BEGIN:STANDARD
TZOFFSETFROM:+0200
TZOFFSETTO:+0100
TZNAME:CET
DTSTART:20241027T010000
END:STANDARD
END:VTIMEZONE
BEGIN:VEVENT
DTSTART;VALUE=DATE:20230824
DTEND;VALUE=DATE:20230828
DTSTAMP:20260425T133132
CREATED:20230322T093807Z
LAST-MODIFIED:20230816T145625Z
UID:10000027-1692835200-1693180799@goxel.de
SUMMARY:Sommerfest der Nachbarschaft Wittenfeld
DESCRIPTION:Traditionellen Sommerfest mit dem alten Heidekönigspaar und Versteigerung der Heidekarre durch den neuen Heidekönig bzw. die neue Heidekönigin. \nWeitere Einzelheiten folgen noch …
URL:https://goxel.de/event/sommerfest-der-nachbarschaft-wittenfeld/
LOCATION:Hölschers Festwiese\, 48653 Coesfeld\, Goxel
CATEGORIES:Wittenfeld
ATTACH;FMTTYPE=image/png:https://goxel.de/wp-content/uploads/2023/03/logo_wittenfeld-neu_hell.png
GEO:51.933199752968;7.117679279516
X-APPLE-STRUCTURED-LOCATION;VALUE=URI;X-ADDRESS=Hölschers Festwiese 48653 Coesfeld Goxel;X-APPLE-RADIUS=500;X-TITLE=48653 Coesfeld:geo:7.117679279516,51.933199752968
END:VEVENT
END:VCALENDAR