BEGIN:VCALENDAR
VERSION:2.0
PRODID:-//Goxel.de - ECPv6.15.13.1//NONSGML v1.0//EN
CALSCALE:GREGORIAN
METHOD:PUBLISH
X-ORIGINAL-URL:https://goxel.de
X-WR-CALDESC:Veranstaltungen für Goxel.de
REFRESH-INTERVAL;VALUE=DURATION:PT1H
X-Robots-Tag:noindex
X-PUBLISHED-TTL:PT1H
BEGIN:VTIMEZONE
TZID:Europe/Berlin
BEGIN:DAYLIGHT
TZOFFSETFROM:+0100
TZOFFSETTO:+0200
TZNAME:CEST
DTSTART:20220327T010000
END:DAYLIGHT
BEGIN:STANDARD
TZOFFSETFROM:+0200
TZOFFSETTO:+0100
TZNAME:CET
DTSTART:20221030T010000
END:STANDARD
BEGIN:DAYLIGHT
TZOFFSETFROM:+0100
TZOFFSETTO:+0200
TZNAME:CEST
DTSTART:20230326T010000
END:DAYLIGHT
BEGIN:STANDARD
TZOFFSETFROM:+0200
TZOFFSETTO:+0100
TZNAME:CET
DTSTART:20231029T010000
END:STANDARD
BEGIN:DAYLIGHT
TZOFFSETFROM:+0100
TZOFFSETTO:+0200
TZNAME:CEST
DTSTART:20240331T010000
END:DAYLIGHT
BEGIN:STANDARD
TZOFFSETFROM:+0200
TZOFFSETTO:+0100
TZNAME:CET
DTSTART:20241027T010000
END:STANDARD
END:VTIMEZONE
BEGIN:VEVENT
DTSTART;TZID=Europe/Berlin:20230519T193000
DTEND;TZID=Europe/Berlin:20230519T200000
DTSTAMP:20260425T182703
CREATED:20230322T091532Z
LAST-MODIFIED:20230324T163752Z
UID:10000024-1684524600-1684526400@goxel.de
SUMMARY:Schützenfest - Parade vor dem neuen Königspaar
DESCRIPTION:Parade vor dem neuen Königspaar\, anschließend Abmarsch zum Festball in der Schützenhalle
URL:https://goxel.de/event/schuetzenfest-parade-vor-dem-neuen-koenigspaar/
LOCATION:Heidekrug\, Goxel 37a\, Coesfeld\, NRW\, 48653\, Deutschland
CATEGORIES:Schützenverein
ATTACH;FMTTYPE=image/jpeg:https://goxel.de/wp-content/uploads/2023/03/sf-freitag-109.jpg
END:VEVENT
BEGIN:VEVENT
DTSTART;TZID=Europe/Berlin:20230519T200000
DTEND;TZID=Europe/Berlin:20230519T233000
DTSTAMP:20260425T182703
CREATED:20230322T092652Z
LAST-MODIFIED:20230324T164045Z
UID:10000026-1684526400-1684539000@goxel.de
SUMMARY:Schützenfest - Festball mit dem neuen Königspaar
DESCRIPTION:
URL:https://goxel.de/event/schuetzenfest-festball-mit-dem-neuen-koenigspaar/
LOCATION:Schützenhalle des Schützenvereins Goxel e.V.\, Goxel 39\, Coesfeld\, NRW\, 48653\, Deutschland
ATTACH;FMTTYPE=image/jpeg:https://goxel.de/wp-content/uploads/2023/03/sf-freitag-067.jpg
GEO:51929802;7103764
X-APPLE-STRUCTURED-LOCATION;VALUE=URI;X-ADDRESS=Schützenhalle des Schützenvereins Goxel e.V. Goxel 39 Coesfeld NRW 48653 Deutschland;X-APPLE-RADIUS=500;X-TITLE=Goxel 39:geo:7103764,51929802
END:VEVENT
END:VCALENDAR