BEGIN:VCALENDAR
VERSION:2.0
PRODID:-//Goxel.de - ECPv6.15.13.1//NONSGML v1.0//EN
CALSCALE:GREGORIAN
METHOD:PUBLISH
X-WR-CALNAME:Goxel.de
X-ORIGINAL-URL:https://goxel.de
X-WR-CALDESC:Veranstaltungen für Goxel.de
REFRESH-INTERVAL;VALUE=DURATION:PT1H
X-Robots-Tag:noindex
X-PUBLISHED-TTL:PT1H
BEGIN:VTIMEZONE
TZID:Europe/Berlin
BEGIN:DAYLIGHT
TZOFFSETFROM:+0100
TZOFFSETTO:+0200
TZNAME:CEST
DTSTART:20220327T010000
END:DAYLIGHT
BEGIN:STANDARD
TZOFFSETFROM:+0200
TZOFFSETTO:+0100
TZNAME:CET
DTSTART:20221030T010000
END:STANDARD
BEGIN:DAYLIGHT
TZOFFSETFROM:+0100
TZOFFSETTO:+0200
TZNAME:CEST
DTSTART:20230326T010000
END:DAYLIGHT
BEGIN:STANDARD
TZOFFSETFROM:+0200
TZOFFSETTO:+0100
TZNAME:CET
DTSTART:20231029T010000
END:STANDARD
BEGIN:DAYLIGHT
TZOFFSETFROM:+0100
TZOFFSETTO:+0200
TZNAME:CEST
DTSTART:20240331T010000
END:DAYLIGHT
BEGIN:STANDARD
TZOFFSETFROM:+0200
TZOFFSETTO:+0100
TZNAME:CET
DTSTART:20241027T010000
END:STANDARD
END:VTIMEZONE
BEGIN:VEVENT
DTSTART;TZID=Europe/Berlin:20230324T100000
DTEND;TZID=Europe/Berlin:20230324T120000
DTSTAMP:20260425T211519
CREATED:20230317T102455Z
LAST-MODIFIED:20230317T132740Z
UID:10000009-1679652000-1679659200@goxel.de
SUMMARY:Annahme von Strauchabschnitt für Osterfeuer 2023
DESCRIPTION:In der Zeit von 10 – 12 Uhr wird aus Goxel stammendes Strauchgut für das Osterfeuer 2023 auf Hölscher Festwiese angenommen Bitte außerhalb dieser Zeiten kein Material dort ablagern!
URL:https://goxel.de/event/annahme-von-strauchabschnitt-fuer-osterfeuer-2023-2/
CATEGORIES:Wittenfeld
END:VEVENT
BEGIN:VEVENT
DTSTART;TZID=Europe/Berlin:20230324T200000
DTEND;TZID=Europe/Berlin:20230324T220000
DTSTAMP:20260425T211519
CREATED:20230317T132624Z
LAST-MODIFIED:20230322T185332Z
UID:10000013-1679688000-1679695200@goxel.de
SUMMARY:Jahreshauptversammlung der Nachbarschaft Wittenfeld
DESCRIPTION:Liebe Wittenfelderinnen\, liebe Wittenfelder \nhiermit laden wir Euch herzlich zur Jahreshauptversammlung am 24.03.2023 um 20:00 Uhr in den Heidekrug Goxel ein. \nTagesordnung:\n\n\nBegrüßung\nTotengedenken\nBericht/Rückschau über die Veranstaltungen der Nachbarschaft 2022/23\nBericht über die Veranstaltungen der Senioren/-innen 2022/23\nKinder- und Jugendarbeit\nKassenbericht\nBericht der Kassenprüfer/-innen\nVorstandswahlen:\nVorsitzende/r                            z.Z. Thomas Wiesweg\nSchriftführer/in                         z.Z.  Tanja Bäumer\nKassierer/in                              z.Z. Frank Rohls\nKassierer/in v. Bezirk 2                z.Z. Sabine Kappe\nKassierer/in v. Bezirk 3                z.Z. Claudia Strotkemper\nKassierer/in v. Bezirk 4                z.Z. Robert Schwietering\nWahl der Kassenprüfer/-innen\nÄnderung der Statuten\nVorschau auf die Aktivitäten 2023\nSommerfest    –     Änderung der Festfolge\nBericht des Goxelrats\nVerschiedenes:\n\nHier haben alle Mitglieder die Möglichkeit ihre Wünsche und Anliegen schriftlich anzumelden. Bitte meldet Euch bis zum 12.03.2023 bei Eurer Bezirkskassiererin bzw. Eurerem Bezirkskassier\, dann können diese Punkte als Tagesordnungspunkte unter Verschiedenes aufgenommen werden. Teilnehmer/-innen der Jahreshauptversammlung bekommen einen Teil der Verzehrkosten erstattet und nehmen an einer Verlosung teil. \nWir freuen uns auf Euer zahlreiches Erscheinen durch das Ihr Euer Interesse an der Nachbarschaft zum Ausdruck bringt. \n   Der Vorstand der Nachbarschaft
URL:https://goxel.de/event/jahreshauptversammlung-der-nachbarschaft-wittenfeld/
LOCATION:Heidekrug\, Goxel 37a\, Coesfeld\, NRW\, 48653\, Deutschland
ATTACH;FMTTYPE=image/png:https://goxel.de/wp-content/uploads/2023/03/logo_wittenfeld-neu_hell.png
END:VEVENT
END:VCALENDAR